0.0290994860
0.0000000000
0.0000000000
-0.0290994860
364069.3190352134
3361673.7208657279
