0.0292630000
0.0000000000
0.0000000000
-0.0292630000
364132.8614221698
3365164.8770221691
