0.25
0
0
-0.25
414000.125
4334999.875
