0.25
0
0
-0.25
408000.125
4337999.875
