0.25
0
0
-0.25
408000.125
4331999.875
