0.25
0
0
-0.25
405000.125
4301999.875
