0.25
0
0
-0.25
402000.125
4328999.875
