0.25
0
0
-0.25
393000.125
4319999.875
