0.25
0
0
-0.25
390000.125
4319999.875
