0.25
0
0
-0.25
387000.125
4304999.875
