0.25
0
0
-0.25
387000.125
4286999.875
