0.25
0
0
-0.25
381000.125
4316999.875
