0.25
0
0
-0.25
378000.125
4310999.875
