0.250000
0.000000
-0.000000
-0.250000
367000.125000
3092999.875000
