0.250000
0.000000
-0.000000
-0.250000
365000.125000
3087999.875000
