0.250000
0.000000
-0.000000
-0.250000
363000.125000
3089999.875000
