0.250000
0.000000
-0.000000
-0.250000
362000.125000
3079999.875000
