0.250000
0.000000
-0.000000
-0.250000
361000.125000
3088999.875000
