0.250000
0.000000
-0.000000
-0.250000
359000.125000
3084999.875000
