0.250000
0.000000
-0.000000
-0.250000
355000.125000
3078999.875000
