0.250000
0.000000
-0.000000
-0.250000
354000.125000
3095999.875000
