0.250000
0.000000
-0.000000
-0.250000
351000.125000
3077999.875000
