0.250000
0.000000
-0.000000
-0.250000
349000.125000
3079999.875000
