0.250000
0.000000
-0.000000
-0.250000
348000.125000
3091999.875000
