0.250000
0.000000
-0.000000
-0.250000
346000.125000
3099999.875000
