0.250000
0.000000
-0.000000
-0.250000
345000.125000
3086999.875000
