0.250000
0.000000
-0.000000
-0.250000
345000.125000
3074999.875000
