0.250000
0.000000
-0.000000
-0.250000
343000.125000
3076999.875000
