0.250000
0.000000
-0.000000
-0.250000
340000.125000
3093999.875000
