0.250000
0.000000
-0.000000
-0.250000
339000.125000
3090999.875000
