0.250000
0.000000
-0.000000
-0.250000
339000.125000
3081999.875000
