0.250000
0.000000
-0.000000
-0.250000
336000.125000
3080999.875000
