0.250000
0.000000
-0.000000
-0.250000
335000.125000
3097999.875000
