0.250000
0.000000
-0.000000
-0.250000
334000.125000
3101999.875000
