0.250000
0.000000
-0.000000
-0.250000
333000.125000
3100999.875000
