0.250000
0.000000
-0.000000
-0.250000
331000.125000
3104999.875000
