0.250000
0.000000
-0.000000
-0.250000
330000.125000
3097999.875000
