0.0500000000
0.0000000000
0.0000000000
-0.0500000000
417000.0250000000
5233999.9749999996
