0.0500000000
0.0000000000
0.0000000000
-0.0500000000
415000.0250000000
5234999.9749999996
