0.0500000000
0.0000000000
0.0000000000
-0.0500000000
413000.0250000000
5228999.9749999996
