0.0500000000
0.0000000000
0.0000000000
-0.0500000000
412000.0250000000
5229999.9749999996
