0.0500000000
0.0000000000
0.0000000000
-0.0500000000
411000.0250000000
5226999.9749999996
