0.0500000000
0.0000000000
0.0000000000
-0.0500000000
410000.0250000000
5227999.9749999996
