0.0500000000
0.0000000000
0.0000000000
-0.0500000000
408000.0250000000
5224999.9749999996
