0.0500000000
0.0000000000
0.0000000000
-0.0500000000
407000.0250000000
5225999.9749999996
