0.0500000000
0.0000000000
0.0000000000
-0.0500000000
406000.0250000000
5223999.9749999996
