0.300000
0.000000
0.000000
-0.300000
517576.040089
3616672.623120
