0.300000
0.000000
0.000000
-0.300000
517563.740089
3623601.123120
