0.300000
0.000000
0.000000
-0.300000
511667.840089
3658232.523120
