0.300000
0.000000
0.000000
-0.300000
517502.240089
3658244.523120
